BEGIN:VCALENDAR
PRODID:-//eluceo/ical//2.0/EN
VERSION:2.0
CALSCALE:GREGORIAN
BEGIN:VEVENT
UID:90b43fce81f86107b2e3195a7cf6e903
DTSTAMP:20260421T224941Z
SUMMARY:Lebenslauf von Karl-Heinz Restle
DESCRIPTION:
URL:https://rc-oberer-bodensee.ch/bs/agenda/show/209127
DTSTART;TZID=Europe/Zurich:20260206T120000
DTEND;TZID=Europe/Zurich:20260206T140000
LOCATION:Restaurant il fiore\, Steinach
CATEGORIES:Rotary
END:VEVENT
BEGIN:VTIMEZONE
TZID:Europe/Zurich
BEGIN:STANDARD
DTSTART:20260206T120000
TZNAME:CET
TZOFFSETTO:+0100
TZOFFSETFROM:+0100
END:STANDARD
END:VTIMEZONE
END:VCALENDAR
