BEGIN:VCALENDAR
PRODID:-//eluceo/ical//2.0/EN
VERSION:2.0
CALSCALE:GREGORIAN
BEGIN:VEVENT
UID:d876bc02c96431c499e638417ebf507b
DTSTAMP:20260421T210746Z
SUMMARY:Vortrag von Rüstungschef der Schweizer Armee Oberst i Gst Dr. Urs 
 Loher
DESCRIPTION:Web stranica: https://www.landhaus-rheineck.ch/
URL:https://rc-oberer-bodensee.ch/bs/agenda/show/209897
DTSTART;TZID=Europe/Zurich:20260213T120000
DTEND;TZID=Europe/Zurich:20260213T140000
LOCATION:Landhaus Rheineck\, Appenzellerstrasse 73\, 9424 Rheineck\, Schwei
 z
CATEGORIES:Rotary
END:VEVENT
BEGIN:VTIMEZONE
TZID:Europe/Zurich
BEGIN:STANDARD
DTSTART:20260213T120000
TZNAME:CET
TZOFFSETTO:+0100
TZOFFSETFROM:+0100
END:STANDARD
END:VTIMEZONE
END:VCALENDAR
